BEGIN:VCALENDAR
VERSION:2.0
PRODID:-//eventon.com NONSGML v1.0//EN
CALSCALE:GREGORIAN
METHOD:PUBLISH
BEGIN:VEVENT
UID:69eb4012a1c64
DTSTAMP:20260424T120402
DTSTART:20170923
DTEND:20170925
TZID:Europe/Berlin
LOCATION:Spazio Artemisia Via Barbarigo\,  83 - Padova 
SUMMARY:ASSOCIAZIONI CULTURALI IN VETRINA
DESCRIPTION: ASSOCIAZIONI CULTURALI IN VETRINACITTA&#8217; NELLA CITTA&#8217; GIORNATA DEDICATA ALLE ASSOCIAZIONI CULTURALI DEL COMUNE DI PADOVA ARTE &#8211; CONVEGNI &#8211; VISITE GUIDATE- LABORATORI PER BAMBINI E TANTO ALTRO Il programma di tutte le iniziative lo potete trovare sul sito di PADOVANET. Ore 10\, 30 Sala Paladin saluto dell&#8217; Amministrazione del Comune di[..]\nhttps://artemisiassociazione.it/evento/associazioni-culturali-in-vetrina/
URL:https://artemisiassociazione.it/evento/associazioni-culturali-in-vetrina/
END:VEVENT
END:VCALENDAR