BEGIN:VCALENDAR
VERSION:2.0
PRODID:-//eventon.com NONSGML v1.0//EN
CALSCALE:GREGORIAN
METHOD:PUBLISH
BEGIN:VEVENT
UID:69ec96428d955
DTSTAMP:20260425T122402
DTSTART:20130308
DTEND:20130309
TZID:UTC
LOCATION:Spazio Artemisia Via Barbarigo\,  83 - Padova 
SUMMARY:Emanuela Marenz
DESCRIPTION: Ogni giorno in più. Il volto della Georgia contemporanea è unaraccolta di fotografie che raccontano la realtà georgiana in questo momento molto delicato di passaggio dal passato Sovietico ad uno sguardo futuro più occidentale. Questo è un progetto di reportage fotografico d’autore tratto da un’opera editoriale più ampia in cui[..]\nhttps://artemisiassociazione.it/evento/emanuela-marenz/
URL:https://artemisiassociazione.it/evento/emanuela-marenz/
END:VEVENT
END:VCALENDAR